BEGIN:VCALENDAR
VERSION:2.0
PRODID:-//FC ALBA - ECPv6.10.0//NONSGML v1.0//EN
CALSCALE:GREGORIAN
METHOD:PUBLISH
X-WR-CALNAME:FC ALBA
X-ORIGINAL-URL:https://fcalba.de
X-WR-CALDESC:Veranstaltungen für FC ALBA
REFRESH-INTERVAL;VALUE=DURATION:PT1H
X-Robots-Tag:noindex
X-PUBLISHED-TTL:PT1H
BEGIN:VTIMEZONE
TZID:UTC
BEGIN:STANDARD
TZOFFSETFROM:+0000
TZOFFSETTO:+0000
TZNAME:UTC
DTSTART:20240101T000000
END:STANDARD
END:VTIMEZONE
BEGIN:VEVENT
DTSTART;VALUE=DATE:20240706
DTEND;VALUE=DATE:20240707
DTSTAMP:20260424T062650
CREATED:20250408T123631Z
LAST-MODIFIED:20250408T124106Z
UID:1195-1720224000-1720310399@fcalba.de
SUMMARY:FC Alba - 10 vjetori
DESCRIPTION:20240706_19312320240706_192930
URL:https://fcalba.de/veranstaltungen/fc-alba-10-vjetori/
CATEGORIES:Kulturelle Aktivitäten
ATTACH;FMTTYPE=image/jpeg:https://fcalba.de/wp-content/uploads/2024/07/20240706_194022-scaled.jpg
END:VEVENT
END:VCALENDAR