BEGIN:VCALENDAR
VERSION:2.0
PRODID:-//FC ALBA - ECPv6.10.0//NONSGML v1.0//EN
CALSCALE:GREGORIAN
METHOD:PUBLISH
X-ORIGINAL-URL:https://fcalba.de
X-WR-CALDESC:Veranstaltungen für FC ALBA
REFRESH-INTERVAL;VALUE=DURATION:PT1H
X-Robots-Tag:noindex
X-PUBLISHED-TTL:PT1H
BEGIN:VTIMEZONE
TZID:UTC
BEGIN:STANDARD
TZOFFSETFROM:+0000
TZOFFSETTO:+0000
TZNAME:UTC
DTSTART:20240101T000000
END:STANDARD
END:VTIMEZONE
BEGIN:VEVENT
DTSTART;VALUE=DATE:20240706
DTEND;VALUE=DATE:20240707
DTSTAMP:20260422T175744
CREATED:20250408T123631Z
LAST-MODIFIED:20250408T124106Z
UID:1195-1720224000-1720310399@fcalba.de
SUMMARY:FC Alba - 10 vjetori
DESCRIPTION:20240706_19312320240706_192930
URL:https://fcalba.de/veranstaltungen/fc-alba-10-vjetori/
CATEGORIES:Kulturelle Aktivitäten
ATTACH;FMTTYPE=image/jpeg:https://fcalba.de/wp-content/uploads/2024/07/20240706_194022-scaled.jpg
END:VEVENT
BEGIN:VEVENT
DTSTART;TZID=UTC:20240620T100000
DTEND;TZID=UTC:20240620T170000
DTSTAMP:20260422T175744
CREATED:20240518T112037Z
LAST-MODIFIED:20240601T160831Z
UID:144-1718877600-1718902800@fcalba.de
SUMMARY:Veranstaltung von FC Alba - Augsburg in München
DESCRIPTION:se shpejti \n\nhttps://fcalba.de/wp-content/uploads/2024/05/video1.mp4
URL:https://fcalba.de/veranstaltungen/eventi2/
LOCATION:FC Alba\, Zugspizstr. 175\, Augsburg\, 86165\, Deutschland
CATEGORIES:Kulturelle Aktivitäten
END:VEVENT
BEGIN:VEVENT
DTSTART;TZID=UTC:20240527T093000
DTEND;TZID=UTC:20240527T160000
DTSTAMP:20260422T175744
CREATED:20240518T114009Z
LAST-MODIFIED:20240523T095451Z
UID:148-1716802200-1716825600@fcalba.de
SUMMARY:Veranstaltung 1 - FC Alba
DESCRIPTION:Grupi i valltarëve FC Alba
URL:https://fcalba.de/veranstaltungen/ver03/
LOCATION:FC Alba\, Zugspizstr. 175\, Augsburg\, 86165\, Deutschland
CATEGORIES:Kulturelle Aktivitäten
ATTACH;FMTTYPE=image/jpeg:https://fcalba.de/wp-content/uploads/2024/05/alba_valltaret1.jpg
ORGANIZER;CN="Avni Gashi":MAILTO:avni.gashii@gmail.com
END:VEVENT
END:VCALENDAR